Workbook

Sheet 원가계산서
B1: 공 사 원 가 계 산 서
B2: 공사명 : 순천청암대학교반려동물학과환경개선공사
B3: 비 목 | E3: 금 액 | F3: 구 성 비 | G3: 비 고
A4: A1 | B4: 순 공 사 원 가 | C4: 재 료 비 | D4: 직 접 재 료 비 | E4: =TRUNC(공종별집계표!F5, 0) -> 0
A5: A2 | D5: 간 접 재 료 비 | E5: 0
A6: A3 | D6: 작업설, 부산물(△) | E6: 0
A7: AS | D7: [ 소 계 ] | E7: =TRUNC(E4+E5-E6, 0) -> 0
A8: B1 | C8: 노 무 비 | D8: 직 접 노 무 비 | E8: =TRUNC(공종별집계표!H5, 0) -> 0
A9: B2 | D9: 간 접 노 무 비 | E9: =TRUNC(E8*0.122, 0) -> 0 | F9: 직접노무비 * 12.2%
A10: BS | D10: [ 소 계 ] | E10: =TRUNC(E8+E9, 0) -> 0
A11: C2 | C11: 경 비 | D11: 경 비 | E11: =TRUNC(공종별집계표!J5, 0) -> 0
A12: C4 | D12: 산 재 보 험 료 | E12: =TRUNC(E10*0.037, 0) -> 0 | F12: 노무비 * 3.7%
A13: C5 | D13: 고 용 보 험 료 | E13: =TRUNC(E10*0.0101, 0) -> 0 | F13: 노무비 * 1.01%
A14: CA | D14: 산업안전보건관리비 | E14: =TRUNC((E7+E8+(0/1.1))*0.0293, 0) -> 0 | F14: (재료비+직노+관급자재비) * 2.93%
A15: CG | D15: 기 타 경 비 | E15: =TRUNC((E7+E10)*0.058, 0) -> 0 | F15: (재료비+노무비) * 5.8%
A16: CS | D16: [ 소 계 ] | E16: =TRUNC(E11+E12+E13+E14+E15, 0) -> 0
A17: S1 | B17: 계 | E17: =TRUNC(E7+E10+E16, 0) -> 0
A18: D1 | B18: 일 반 관 리 비 | E18: =TRUNC(E17*0.06, 0) -> 0 | F18: 계 * 6%
A19: D2 | B19: 이 윤 | F19: (노무비+경비+일반관리비) * 15%
A20: D9 | B20: 공 급 가 액
A21: DB | B21: 부 가 가 치 세 | F21: 공급가액 * 10%
A22: DH | B22: 도 급 액
A23: S2 | B23: 총 공 사 비

Sheet 공종별집계표
A1: 공 종 별 집 계 표
A2: [ 순천청암대학교반려동물학과환경개선공사 ]
A3: 품 명 | B3: 규 격 | C3: 단위 | D3: 수량 | E3: 재 료 비 | G3: 노 무 비 | I3: 경 비 | K3: 합 계 | M3: 비 고 | N3: 공종코드 | O3: 변수 | P3: 상위공종 | Q3: 공종구분 | R3: 공종레벨 | S3: 공종소계 | T3: 원가계산서 연결금액
E4: 단 가 | F4: 금 액 | G4: 단 가 | H4: 금 액 | I4: 단 가 | J4: 금 액 | K4: 단 가 | L4: 금 액
A5: 01 순천청암대학교반려동물학과환경개선공사 | D5: 1 | E5: =F6 -> 0 | F5: =E5*D5 -> 0 | G5: =H6 -> 0 | H5: =G5*D5 -> 0 | I5: =J6 -> 0 | J5: =I5*D5 -> 0 | K5: =E5+G5+I5 -> 0 | L5: =F5+H5+J5 -> 0 | N5: 01 | R5: 1
A6: 0101 01.반려동물학과 | D6: 1 | E6: =F7+F8+F9+F10+F11 -> 0 | F6: =E6*D6 -> 0 | G6: =H7+H8+H9+H10+H11 -> 0 | H6: =G6*D6 -> 0 | I6: =J7+J8+J9+J10+J11 -> 0 | J6: =I6*D6 -> 0 | K6: =E6+G6+I6 -> 0 | L6: =F6+H6+J6 -> 0 | N6: 0101 | P6: 01 | R6: 2
A7: 010101 가설 공사 | D7: 1 | E7: =공종별내역서!F29 -> 0 | F7: =E7*D7 -> 0 | G7: =공종별내역서!H29 -> 0 | H7: =G7*D7 -> 0 | I7: =공종별내역서!J29 -> 0 | J7: =I7*D7 -> 0 | K7: =E7+G7+I7 -> 0 | L7: =F7+H7+J7 -> 0 | N7: 010101 | P7: 0101 | R7: 3
A8: 010102 목공사및수장공사 | D8: 1 | E8: =공종별내역서!F55 -> 0 | F8: =E8*D8 -> 0 | G8: =공종별내역서!H55 -> 0 | H8: =G8*D8 -> 0 | I8: =공종별내역서!J55 -> 0 | J8: =I8*D8 -> 0 | K8: =E8+G8+I8 -> 0 | L8: =F8+H8+J8 -> 0 | N8: 010102 | P8: 0101 | R8: 3
A9: 010103 창호 및 유리공사 | D9: 1 | E9: =공종별내역서!F81 -> 0 | F9: =E9*D9 -> 0 | G9: =공종별내역서!H81 -> 0 | H9: =G9*D9 -> 0 | I9: =공종별내역서!J81 -> 0 | J9: =I9*D9 -> 0 | K9: =E9+G9+I9 -> 0 | L9: =F9+H9+J9 -> 0 | N9: 010103 | P9: 0101 | R9: 3
A10: 010104 철 거 공 사 | D10: 1 | E10: =공종별내역서!F107 -> 0 | F10: =E10*D10 -> 0 | G10: =공종별내역서!H107 -> 0 | H10: =G10*D10 -> 0 | I10: =공종별내역서!J107 -> 0 | J10: =I10*D10 -> 0 | K10: =E10+G10+I10 -> 0 | L10: =F10+H10+J10 -> 0 | N10: 010104 | P10: 0101 | R10: 3
A11: 010105 기 계 설 비 공 사 | D11: 1 | E11: =공종별내역서!F133 -> 0 | F11: =E11*D11 -> 0 | G11: =공종별내역서!H133 -> 0 | H11: =G11*D11 -> 0 | I11: =공종별내역서!J133 -> 0 | J11: =I11*D11 -> 0 | K11: =E11+G11+I11 -> 0 | L11: =F11+H11+J11 -> 0 | N11: 010105 | P11: 0101 | R11: 3
A28: [ 합 계 ] | F28: =F5 -> 0 | H28: =H5 -> 0 | J28: =J5 -> 0 | L28: =L5 -> 0

Sheet 공종별내역서
A1: [ 순천청암대학교반려동물학과환경개선공사 ]
A2: 품 명 | B2: 규 격 | C2: 단위 | D2: 수량 | E2: 재 료 비 | G2: 노 무 비 | I2: 경 비 | K2: 합 계 | M2: 비 고 | N2: 품목코드 | O2: 변수 | P2: 설정 | Q2: 공종코드 | R2: 일위 | S2: 단산 | T2: 자재 | U2: 손료적용 | V2: 손료저장 | W2: 적용율 | X2: JUK1 | Y2: JUK2 | Z2: JUK3 | AA2: JUK4 | AB2: JUK5 | AC2: JUK6 | AD2: JUK7 | AE2: JUK8 | AF2: JUK9 | AG2: JUK10 | AH2: JUK11 | AI2: JUK12 | AJ2: JUK13 | AK2: JUK14 | AL2: JUK15 | AM2: JUK16 | AN2: JUK17 | AO2: JUK18 | AP2: JUK19 | AQ2: JUK20 | AR2: 자재구분 | AS2: 공종구분 | AT2: 공종레벨 | AU2: 공종+자재 | AV2: 고유번호
E3: 단 가 | F3: 금 액 | G3: 단 가 | H3: 금 액 | I3: 단 가 | J3: 금 액 | K3: 단 가 | L3: 금 액
A4: 010101 가설 공사 | Q4: 010101
A5: 건축물 현장정리 | B5: 보통인부 | C5: 인 | D5: 2 | N5: 50B80190E3E26E704B653E96C21D40 | Q5: 010101 | R5: T | S5: F | T5: F | AU5: 01010150B80190E3E26E704B653E96C21D40 | AV5: 36
A6: 강관 조립말비계(이동식)설치 및 해체 | B6: 높이 2m, 3개월 | C6: 대 | D6: 2 | N6: 50B80190B6895F00450E3CEB7CC8AD | Q6: 010101 | R6: T | S6: F | T6: F | AU6: 01010150B80190B6895F00450E3CEB7CC8AD | AV6: 37
A29: [ 합 계 ] | F29: =SUM(F5:F28) -> 0 | H29: =SUM(H5:H28) -> 0 | J29: =SUM(J5:J28) -> 0 | L29: =SUM(L5:L28) -> 0 | N29: TOTAL
A30: 010102 목공사및수장공사 | Q30: 010102
A31: DRY-WALL | B31: MDF마감 | C31: M2 | D31: 192 | N31: 50B8B197B9BD2FE0428F366F2F2743 | Q31: 010102 | R31: T | S31: F | T31: F | AU31: 01010250B8B197B9BD2FE0428F366F2F2743 | AV31: 42
A32: 몰딩+실리콘 마감 | C32: M | D32: 129 | N32: 50B8E19A07B05930449D3911ED2A71 | Q32: 010102 | R32: T | S32: F | T32: F | AU32: 01010250B8E19A07B05930449D3911ED2A71 | AV32: 52
A33: 벽체칸막이 설치 | B33: 탈의실 남/여 | C33: M2 | D33: 78 | N33: 50B8819C2501E4304B753840DEF5F2 | Q33: 010102 | R33: T | S33: F | T33: F | AU33: 01010250B8819C2501E4304B753840DEF5F2 | AV33: 53
A34: 바탕만들기+수성페인트 롤러칠 | B34: 내부, 2회 1급, con'c·mortar면 | C34: M2 | D34: 74 | N34: 50B8F198C36E6470474C37B6105BF2 | Q34: 010102 | R34: T | S34: F | T34: F | AU34: 01010250B8F198C36E6470474C37B6105BF2 | AV34: 26
A35: 바탕만들기+수성페인트 롤러칠 | B35: 내부, 2회 1급, 석고보드면 줄퍼티 | C35: M2 | D35: 108 | N35: 50B8F198C36E6470474C37B1AE392D | Q35: 010102 | R35: T | S35: F | T35: F | AU35: 01010250B8F198C36E6470474C37B1AE392D | AV35: 27
A36: 바탕만들기+수성페인트 롤러칠 | B36: 내천장, 2회 1급 | C36: M2 | D36: 435 | N36: 50B8F198C36E647047333BA2864EF6 | Q36: 010102 | R36: T | S36: F | T36: F | AU36: 01010250B8F198C36E647047333BA2864EF6 | AV36: 28
A37: 데코타일 코팅 | C37: ㎡ | D37: 381 | N37: 50B8E19A8B03F63046BD3474A80D6E | Q37: 010102 | R37: T | S37: F | T37: F | AU37: 01010250B8E19A8B03F63046BD3474A80D6E | AV37: 14
A38: 인테리어필름 | B38: 방염 | C38: M2 | D38: 230 | N38: 50B8819C2501E4304B753840DEF5F1 | Q38: 010102 | R38: T | S38: F | T38: F | AU38: 01010250B8819C2501E4304B753840DEF5F1 | AV38: 56
A39: 유성페인트 붓칠 | B39: 방화문 양개 | C39: SET | D39: 1 | N39: 50B8F198DDFDDF1040C13AB3A7B736 | Q39: 010102 | R39: T | S39: F | T39: F | AU39: 01010250B8F198DDFDDF1040C13AB3A7B736 | AV39: 24
A40: 유성페인트 붓칠 | B40: 방화문 편개 | C40: SET | D40: 1 | N40: 50B8F198DDFDDF1040C13AB3A7B735 | Q40: 010102 | R40: T | S40: F | T40: F | AU40: 01010250B8F198DDFDDF1040C13AB3A7B735 | AV40: 25
A41: 바탕만들기+에폭시 라이닝 | B41: 레기칠 | C41: M2 | D41: 78 | N41: 50B8F1985885D19048043AD5332609 | Q41: 010102 | R41: T | S41: F | T41: F | AU41: 01010250B8F1985885D19048043AD5332609 | AV41: 30
A55: [ 합 계 ] | F55: =SUM(F31:F54) -> 0 | H55: =SUM(H31:H54) -> 0 | J55: =SUM(J31:J54) -> 0 | L55: =SUM(L31:L54) -> 0 | N55: TOTAL
A56: 010103 창호 및 유리공사 | Q56: 010103
A57: 유리문 | B57: 유리문, 12*900*2100mm, 투명, 세이프강화도어(고급형) | C57: 개 | D57: 8 | N57: 579D71978B0425204DF2306E76DCA7794FD01D | Q57: 010103 | R57: F | S57: F | T57: T | AU57: 010103579D71978B0425204DF2306E76DCA7794FD01D | AV57: 20
A58: 폴딩도어설치 | B58: 6.7*3.5 | C58: EA | D58: 1 | N58: 50B8D194385BBC804703329C89ED12 | Q58: 010103 | R58: T | S58: F | T58: F | AU58: 01010350B8D194385BBC804703329C89ED12 | AV58: 39
A59: 윈도우 칸막이 설치 | C59: M | D59: 314 | N59: 50B8D1940336BB304EF43377FB7D22 | Q59: 010103 | R59: T | S59: F | T59: F | AU59: 01010350B8D1940336BB304EF43377FB7D22 | AV59: 22
A60: 강화유리설치 | B60: 유리두께 12mm 이하 | C60: M2 | D60: 131.6 | N60: 50B8D1945B2905F0409232CF5B03B2 | Q60: 010103 | R60: T | S60: F | T60: F | AU60: 01010350B8D1945B2905F0409232CF5B03B2 | AV60: 41
A81: [ 합 계 ] | F81: =SUM(F57:F80) -> 0 | H81: =SUM(H57:H80) -> 0 | J81: =SUM(J57:J80) -> 0 | L81: =SUM(L57:L80) -> 0 | N81: TOTAL
A82: 010104 철 거 공 사 | Q82: 010104
A83: 천정철거 | B83: 석면, 텍스 | C83: M2 | D83: 435 | N83: 50B9019F70A4F4404662366BC00BAB | Q83: 010104 | R83: T | S83: F | T83: F | AU83: 01010450B9019F70A4F4404662366BC00BAB | AV83: 54
A84: 바닥철거 | B84: 데코타일 | C84: M2 | D84: 78 | N84: 50B9019F7031ECB049C23EC779C540 | Q84: 010104 | R84: T | S84: F | T84: F | AU84: 01010450B9019F7031ECB049C23EC779C540 | AV84: 33
A85: 벽체철거 | B85: 판넬외 혼합자재 | C85: M2 | D85: 222 | N85: 50B9019F70A4F45040C8302D86C6CC | Q85: 010104 | R85: T | S85: F | T85: F | AU85: 01010450B9019F70A4F45040C8302D86C6CC | AV85: 31
A86: 혼합폐기물 운반비및 처리 | B86: 압롤트럭 | C86: 대 | D86: 1 | N86: 5100219B5C0D1C60441E35755D9C9F9D30EC06 | Q86: 010104 | R86: F | S86: F | T86: T | AU86: 0101045100219B5C0D1C60441E35755D9C9F9D30EC06 | AV86: 55
A107: [ 합 계 ] | F107: =SUM(F83:F106) -> 0 | H107: =SUM(H83:H106) -> 0 | J107: =SUM(J83:J106) -> 0 | L107: =SUM(L83:L106) -> 0 | N107: TOTAL
A108: 010105 기 계 설 비 공 사 | Q108: 010105
A109: PVC 파이프 | B109: 50A | C109: M | D109: 20 | N109: 5100219B5C0D1C60441E35755D9C9F9D30ED2F | Q109: 010105 | R109: F | S109: F | T109: T | AU109: 0101055100219B5C0D1C60441E35755D9C9F9D30ED2F | AV109: 43
A110: 급수파이프 | B110: 15A | C110: M | D110: 25 | N110: 5100219B5C0D1C60441E35755D9C9F9D30ED28 | Q110: 010105 | R110: F | S110: F | T110: T | AU110: 0101055100219B5C0D1C60441E35755D9C9F9D30ED28 | AV110: 44
A111: 보온재 | B111: 15*20T | C111: M | D111: 25 | N111: 5100219B5C0D1C60441E35755D9C9F9D30ED29 | Q111: 010105 | R111: F | S111: F | T111: T | AU111: 0101055100219B5C0D1C60441E35755D9C9F9D30ED29 | AV111: 45
A112: 온수기 | B112: 30L | C112: EA | D112: 2 | N112: 5100219B5C0D1C60441E35755D9C9F9D30ED2A | Q112: 010105 | R112: F | S112: F | T112: T | AU112: 0101055100219B5C0D1C60441E35755D9C9F9D30ED2A | AV112: 46
A113: 코어작업 | B113: 75A | C113: EA | D113: 6 | N113: 5100219B5C0D1C60441E35755D9C9F9D30ED2B | Q113: 010105 | R113: F | S113: F | T113: T | AU113: 0101055100219B5C0D1C60441E35755D9C9F9D30ED2B | AV113: 47
A114: 세면대 | C114: EA | D114: 2 | N114: 5100219B5C0D1C60441E35755D9C9F9D30ED24 | Q114: 010105 | R114: F | S114: F | T114: T | AU114: 0101055100219B5C0D1C60441E35755D9C9F9D30ED24 | AV114: 48
A115: 부자재비 | C115: 식 | D115: 1 | N115: 5100219B5C0D1C60441E35755D9C9F9D30ED25 | Q115: 010105 | R115: F | S115: F | T115: T | AU115: 0101055100219B5C0D1C60441E35755D9C9F9D30ED25 | AV115: 49
A116: 배관공 | B116: 일반공사 직종 | C116: 인 | D116: 4 | N116: 5060F1993319D2104E8B3258F403201DA1F5F7 | Q116: 010105 | R116: F | S116: F | T116: T | AU116: 0101055060F1993319D2104E8B3258F403201DA1F5F7 | AV116: 50
A117: 보통인부 | B117: 일반공사 직종 | C117: 인 | D117: 4 | N117: 5060F1993319D2104E8B3258F403201DA1F687 | Q117: 010105 | R117: F | S117: F | T117: T | AU117: 0101055060F1993319D2104E8B3258F403201DA1F687 | AV117: 51
A133: [ 합 계 ] | F133: =SUM(F109:F132) -> 0 | H133: =SUM(H109:H132) -> 0 | J133: =SUM(J109:J132) -> 0 | L133: =SUM(L109:L132) -> 0 | N133: TOTAL

Sheet 일위대가목록
A1: 일 위 대 가 목 록
A2: [ 순천청암대학교반려동물학과환경개선공사 ]
A3: 코 드 | B3: 품 명 | C3: 규 격 | D3: 단위 | E3: 재 료 비 | F3: 노 무 비 | G3: 경 비 | H3: 합 계 | I3: 번 호 | J3: 비 고 | K3: 노임계수 | L3: 할증 | M3: 품셈개요 | N3: 장비일위
A4: 50B80190E3E26E704B653E96C21D40 | B4: 건축물 현장정리 | C4: 보통인부 | D4: 인
A5: 50B80190B6895F00450E3CEB7CC8AD | B5: 강관 조립말비계(이동식)설치 및 해체 | C5: 높이 2m, 3개월 | D5: 대
A6: 50B8B197B9BD2FE0428F366F2F2743 | B6: DRY-WALL | C6: MDF마감 | D6: M2
A7: 50B8E19A07B05930449D3911ED2A71 | B7: 몰딩+실리콘 마감 | D7: M
A8: 50B8819C2501E4304B753840DEF5F2 | B8: 벽체칸막이 설치 | C8: 탈의실 남/여 | D8: M2
A9: 50B8F198C36E6470474C37B6105BF2 | B9: 바탕만들기+수성페인트 롤러칠 | C9: 내부, 2회 1급, con'c·mortar면 | D9: M2
A10: 50B8F198C36E6470474C37B1AE392D | B10: 바탕만들기+수성페인트 롤러칠 | C10: 내부, 2회 1급, 석고보드면 줄퍼티 | D10: M2
A11: 50B8F198C36E647047333BA2864EF6 | B11: 바탕만들기+수성페인트 롤러칠 | C11: 내천장, 2회 1급 | D11: M2
A12: 50B8E19A8B03F63046BD3474A80D6E | B12: 데코타일 코팅 | D12: ㎡
A13: 50B8819C2501E4304B753840DEF5F1 | B13: 인테리어필름 | C13: 방염 | D13: M2
A14: 50B8F198DDFDDF1040C13AB3A7B736 | B14: 유성페인트 붓칠 | C14: 방화문 양개 | D14: SET
A15: 50B8F198DDFDDF1040C13AB3A7B735 | B15: 유성페인트 붓칠 | C15: 방화문 편개 | D15: SET
A16: 50B8F1985885D19048043AD5332609 | B16: 바탕만들기+에폭시 라이닝 | C16: 레기칠 | D16: M2
A17: 50B8D194385BBC804703329C89ED12 | B17: 폴딩도어설치 | C17: 6.7*3.5 | D17: EA
A18: 50B8D1940336BB304EF43377FB7D22 | B18: 윈도우 칸막이 설치 | D18: M
A19: 50B8D1945B2905F0409232CF5B03B2 | B19: 강화유리설치 | C19: 유리두께 12mm 이하 | D19: M2
A20: 50B9019F70A4F4404662366BC00BAB | B20: 천정철거 | C20: 석면, 텍스 | D20: M2
A21: 50B9019F7031ECB049C23EC779C540 | B21: 바닥철거 | C21: 데코타일 | D21: M2
A22: 50B9019F70A4F45040C8302D86C6CC | B22: 벽체철거 | C22: 판넬외 혼합자재 | D22: M2
A23: 50B80190B6895F00450E3CEA552141 | B23: 강관 조립말비계(이동식)설치 및 해체 | C23: 높이 2m, 노무비 | D23: 대
A24: 50B8E19A8D3AFE804D0F3531280156 | B24: 메탈스터드(C-65) | C24: 65*45@450 | D24: M2
A25: 50B8E19AA7EB3DF04DEC382C8D471B | B25: MDF 설치 | C25: 9T | D25: M2
A26: 50B8E19AA7BFF1504BD83366B6BF4A | B26: 벽체합판 설치 | C26: 합판 별도 | D26: M2
A27: 50B8F198C36E6470474C37B6105BF7 | B27: 바탕만들기+수성페인트 롤러칠(재료비 미포함) | C27: 내부, 2회 1급, con'c·mortar면 | D27: M2
A28: 50B8F199C42FE4804DD238BF5B033C | B28: 콘크리트·모르타르면 바탕만들기 재료비 | C28: (20년 품셈 기준) | D28: M2
A29: 50B8F198C36E6470474C34E35A7322 | B29: 수성페인트 롤러칠 재료비(20년 품셈기준) | C29: 내부, 2회, 1급, 합성수지에멀션페인트 | D29: M2
A30: 50B8F199C42FE4804DD238B0D4EEBD | B30: 콘크리트·모르타르면 바탕만들기 | C30: 노무비 | D30: M2
... A43: 50B8C195A9F404904A3834F76AB9CD | B43: 바탕 고르기 | C43: 바닥, 24mm 이하 기준 | D43: M2
A44: 50B8D1940336BB304EF43377FB7D27 | B44: 알루미늄창호 설치 | D44: EA
A45: 50B9019F7031ECB049C23EC2FD127E | B45: 리노륨 철거 - 22-1/4삭제 | C45: 바닥 및 수장 부분 | D45: M2

Sheet 일위대가
A1: [ 순천청암대학교반려동물학과환경개선공사 ]
A2: 품 명 | B2: 규 격 | C2: 단위 | D2: 수량 | E2: 재 료 비 | G2: 노 무 비 | I2: 경 비 | K2: 합 계 | M2: 비 고 | N2: 일위대가 | O2: 품목코드 | P2: 일위 | Q2: 단산 | R2: 자재 | S2: 손료적용 | T2: 손료저장 | U2: 적용율 | V2: JUK1 | W2: JUK2 | X2: JUK3 | Y2: JUK4 | Z2: JUK5 | AA2: JUK6 | AB2: JUK7 | AC2: JUK8 | AD2: JUK9 | AE2: JUK10 | AF2: JUK11 | AG2: JUK12 | AH2: JUK13 | AI2: JUK14 | AJ2: JUK15 | AK2: JUK16 | AL2: JUK17 | AM2: JUK18 | AN2: JUK19 | AO2: JUK20 | AP2: 할증적용 | AQ2: 할증저장 | AR2: 할증율 | AS2: HAL1 | AT2: HAL2 | AU2: HAL3 | AV2: 자재구분 | AW2: 일위대가+자재 | AX2: 장비일위 | AY2: 설정
E3: 단 가 | F3: 금 액 | G3: 단 가 | H3: 금 액 | I3: 단 가 | J3: 금 액 | K3: 단 가 | L3: 금 액
A4: 건축물 현장정리 보통인부 인 ( 호표 1 ) | N4: 50B80190E3E26E704B653E96C21D40
A5: 보통인부 | B5: 일반공사 직종 | C5: 인 | N5: 50B80190E3E26E704B653E96C21D40 | O5: 5060F1993319D2104E8B3258F403201DA1F687 | P5: F | Q5: F | R5: T | AW5: 50B80190E3E26E704B653E96C21D405060F1993319D2104E8B3258F403201DA1F687
A6: [ 합 계 ] | N6: TOTAL | O6: TOTAL
A8: 강관 조립말비계(이동식)설치 및 해체 높이 2m, 3개월 대 ( 호표 2 ) | N8: 50B80190B6895F00450E3CEB7CC8AD
A9: 비계안정장치 | B9: 비계안정장치, 비계기본틀, 기둥, 1.2*1.7m | C9: 개 | N9: 50B80190B6895F00450E3CEB7CC8AD | O9: 579D71978BE2053040CE38B17F8CDAAD1AEA8E | P9: F | Q9: F | R9: T | AW9: 50B80190B6895F00450E3CEB7CC8AD579D71978BE2053040CE38B17F8CDAAD1AEA8E
A10: 비계안정장치 | B10: 비계안정장치, 가새, 1.2*1.9m | C10: 개 | N10: 50B80190B6895F00450E3CEB7CC8AD | O10: 579D71978BE2053040CE38B17F8CDAAD1AEA80 | P10: F | Q10: F | R10: T | AW10: 50B80190B6895F00450E3CEB7CC8AD579D71978BE2053040CE38B17F8CDAAD1AEA80
A11: 비계안정장치 | B11: 비계안정장치, 수평띠장, 1829mm | C11: 개 | N11: 50B80190B6895F00450E3CEB7CC8AD | O11: 579D71978BE2053040CE38B17F8CDAAD1AE50A | P11: F | Q11: F | R11: T | AW11: 50B80190B6895F00450E3CEB7CC8AD579D71978BE2053040CE38B17F8CDAAD1AE50A
A12: 비계안정장치 | B12: 비계안정장치, 손잡이기둥 | C12: 개 | N12: 50B80190B6895F00450E3CEB7CC8AD | O12: 579D71978BE2053040CE38B17F8CDAAD1AE50D | P12: F | Q12: F | R12: T | AW12: 50B80190B6895F00450E3CEB7CC8AD579D71978BE2053040CE38B17F8CDAAD1AE50D
A13: 비계안정장치 | B13: 비계안정장치, 손잡이, 1229mm | C13: 개 | N13: 50B80190B6895F00450E3CEB7CC8AD | O13: 579D71978BE2053040CE38B17F8CDAAD1AE50B | P13: F | Q13: F | R13: T | AW13: 50B80190B6895F00450E3CEB7CC8AD579D71978BE2053040CE38B17F8CDAAD1AE50B
A14: 비계안정장치 | B14: 비계안정장치, 손잡이, 1829mm | C14: 개 | N14: 50B80190B6895F00450E3CEB7CC8AD | O14: 579D71978BE2053040CE38B17F8CDAAD1AE50C | P14: F | Q14: F | R14: T | AW14: 50B80190B6895F00450E3CEB7CC8AD579D71978BE2053040CE38B17F8CDAAD1AE50C
A15: 비계안정장치 | B15: 비계안정장치, 바퀴 | C15: 개 | N15: 50B80190B6895F00450E3CEB7CC8AD | O15: 579D71978BE2053040CE38B17F8CDAAD1AE50E | P15: F | Q15: F | R15: T | AW15: 50B80190B6895F00450E3CEB7CC8AD579D71978BE2053040CE38B17F8CDAAD1AE50E
A16: 비계안정장치 | B16: 비계안정장치, 쟈키 | C16: 개 | N16: 50B80190B6895F00450E3CEB7CC8AD | O16: 579D71978BE2053040CE38B17F8CDAAD1AE50F | P16: F | Q16: F | R16: T | AW16: 50B80190B6895F00450E3CEB7CC8AD579D71978BE2053040CE38B17F8CDAAD1AE50F
A17: 비계안정장치 | B17: 비계안정장치, 발판, 40*200*2000 | C17: 장 | N17: 50B80190B6895F00450E3CEB7CC8AD | O17: 579D71978BE2053040CE38B17DDCB7E1097074 | P17: F | Q17: F | R17: T | AW17: 50B80190B6895F00450E3CEB7CC8AD579D71978BE2053040CE38B17DDCB7E1097074
A18: 강관 조립말비계(이동식)설치 및 해체 | B18: 높이 2m, 노무비 | C18: 대 | N18: 50B80190B6895F00450E3CEB7CC8AD | O18: 50B80190B6895F00450E3CEA552141 | P18: T | Q18: F | R18: F | AW18: 50B80190B6895F00450E3CEB7CC8AD50B80190B6895F00450E3CEA552141
A19: [ 합 계 ] | N19: TOTAL | O19: TOTAL
A21: DRY-WALL MDF마감 M2 ( 호표 3 ) | N21: 50B8B197B9BD2FE0428F366F2F2743
A22: 메탈스터드(C-65) | B22: 65*45@450 | C22: M2 | N22: 50B8B197B9BD2FE0428F366F2F2743 | O22: 50B8E19A8D3AFE804D0F3531280156 | P22: T | Q22: F | R22: F | AW22: 50B8B197B9BD2FE0428F366F2F274350B8E19A8D3AFE804D0F3531280156
A23: MDF 설치 | B23: 9T | C23: M2 | N23: 50B8B197B9BD2FE0428F366F2F2743 | O23: 50B8E19AA7EB3DF04DEC382C8D471B | P23: T | Q23: F | R23: F | AW23: 50B8B197B9BD2FE0428F366F2F274350B8E19AA7EB3DF04DEC382C8D471B
A24: [ 합 계 ] | N24: TOTAL | O24: TOTAL
A26: 몰딩+실리콘 마감 M ( 호표 4 ) | N26: 50B8E19A07B05930449D3911ED2A71
A27: 내장공 | B27: 일반공사 직종 | C27: 인 | N27: 50B8E19A07B05930449D3911ED2A71 | O27: 5060F1993319D2104E8B3258F403201DA1F5FE | P27: F | Q27: F | R27: T | V27: 1 | AW27: 50B8E19A07B05930449D3911ED2A715060F1993319D2104E8B3258F403201DA1F5FE
A28: 공구손료 | B28: 인력품의 4% | C28: 식 | N28: 50B8E19A07B05930449D3911ED2A71 | O28: 51A161976B3632904A6F31A71D38001 | P28: F | Q28: F | R28: F | S28: 1 | T28: 2 | U28: 0.04 | AW28: 50B8E19A07B05930449D3911ED2A7151A161976B3632904A6F31A71D38001
A29: 마감몰딩 | C29: M | N29: 50B8E19A07B05930449D3911ED2A71 | O29: 579D71978B2717104A6A39CE7D7D69EF8BA5D8 | P29: F | Q29: F | R29: T | AW29: 50B8E19A07B05930449D3911ED2A71579D71978B2717104A6A39CE7D7D69EF8BA5D8
A30: [ 합 계 ] | N30: TOTAL | O30: TOTAL
A32: 벽체칸막이 설치 탈의실 남/여 M2 ( 호표 5 ) | N32: 50B8819C2501E4304B753840DEF5F2
A33: 벽체칸막이 | C33: M2 | N33: 50B8819C2501E4304B753840DEF5F2 | O33: 579D71978BFC94E041693C44822B8732DE79DB | P33: F | Q33: F | R33: T | AW33: 50B8819C2501E4304B753840DEF5F2579D71978BFC94E041693C44822B8732DE79DB
A34: 건축목공 | B34: 일반공사 직종 | C34: 인 | N34: 50B8819C2501E4304B753840DEF5F2 | O34: 5060F1993319D2104E8B3258F403201DA1F4D4 | P34: F | Q34: F | R34: T | AW34: 50B8819C2501E4304B753840DEF5F25060F1993319D2104E8B3258F403201DA1F4D4
A35: 보통인부 | B35: 일반공사 직종 | C35: 인 | N35: 50B8819C2501E4304B753840DEF5F2 | O35: 5060F1993319D2104E8B3258F403201DA1F687 | P35: F | Q35: F | R35: T | AW35: 50B8819C2501E4304B753840DEF5F25060F1993319D2104E8B3258F403201DA1F687
A36: 공구손료 | B36: 인력품의 2% | C36: 식 | N36: 50B8819C2501E4304B753840DEF5F2 | O36: 51A161976B3632904A6F31A71D38001 | P36: F | Q36: F | R36: F | S36: 1 | T36: 2 | U36: 0.02 | AW36: 50B8819C2501E4304B753840DEF5F251A161976B3632904A6F31A71D38001
A37: [ 합 계 ] | N37: TOTAL | O37: TOTAL
A39: 바탕만들기+수성페인트 롤러칠 내부, 2회 1급, con'c·mortar면 M2 ( 호표 6 ) | N39: 50B8F198C36E6470474C37B6105BF2
A40: 바탕만들기+수성페인트 롤러칠(재료비 미포함) | B40: 내부, 2회 1급, con'c·mortar면 | C40: M2 | N40: 50B8F198C36E6470474C37B6105BF2 | O40: 50B8F198C36E6470474C37B6105BF7 | P40: T | Q40: F | R40: F | AW40: 50B8F198C36E6470474C37B6105BF250B8F198C36E6470474C37B6105BF7
A41: 콘크리트·모르타르면 바탕만들기 재료비 | B41: (20년 품셈 기준) | C41: M2 | N41: 50B8F198C36E6470474C37B6105BF2 | O41: 50B8F199C42FE4804DD238BF5B033C | P41: T | Q41: F | R41: F | AW41: 50B8F198C36E6470474C37B6105BF250B8F199C42FE4804DD238BF5B033C
A42: 수성페인트 롤러칠 재료비(20년 품셈기준) | B42: 내부, 2회, 1급, 합성수지에멀션페인트 | C42: M2 | N42: 50B8F198C36E6470474C37B6105BF2 | O42: 50B8F198C36E6470474C34E35A7322 | P42: T | Q42: F | R42: F | AW42: 50B8F198C36E6470474C37B6105BF250B8F198C36E6470474C34E35A7322
A43: [ 합 계 ] | N43: TOTAL | O43: TOTAL
A45: 바탕만들기+수성페인트 롤러칠 내부, 2회 1급, 석고보드면 줄퍼티 M2 ( 호표 7 ) | N45: 50B8F198C36E6470474C37B1AE392D
A46: 바탕만들기+수성페인트 롤러칠(재료비 미포함) | B46: 내부, 2회 1급, 석고보드면 줄퍼티 | C46: M2 | N46: 50B8F198C36E6470474C37B1AE392D | O46: 50B8F198C36E6470474C37B1AE3928 | P46: T | Q46: F | R46: F | AW46: 50B8F198C36E6470474C37B1AE392D50B8F198C36E6470474C37B1AE3928
A47: 석고보드면 바탕만들기 재료비 | B47: 줄퍼티(20년 품셈 기준) | C47: M2 | N47: 50B8F198C36E6470474C37B1AE392D | O47: 50B8F199C42FE4804DD2395F9769F0 | P47: T | Q47: F | R47: F | AW47: 50B8F198C36E6470474C37B1AE392D50B8F199C42FE4804DD2395F9769F0
A48: 수성페인트 롤러칠 재료비(20년 품셈기준) | B48: 내부, 2회, 1급, 합성수지에멀션페인트 | C48: M2 | N48: 50B8F198C36E6470474C37B1AE392D | O48: 50B8F198C36E6470474C34E35A7322 | P48: T | Q48: F | R48: F | AW48: 50B8F198C36E6470474C37B1AE392D50B8F198C36E6470474C34E35A7322
A49: [ 합 계 ] | N49: TOTAL | O49: TOTAL
A51: 바탕만들기+수성페인트 롤러칠 내천장, 2회 1급 M2 ( 호표 8 ) | N51: 50B8F198C36E647047333BA2864EF6
A52: 수성페인트 롤러칠 재료비(20년 품셈기준) | B52: 내부, 2회, 1급, 합성수지에멀션페인트 | C52: M2 | N52: 50B8F198C36E647047333BA2864EF6 | O52: 50B8F198C36E6470474C34E35A7322 | P52: T | Q52: F | R52: F | AW52: 50B8F198C36E647047333BA2864EF650B8F198C36E6470474C34E35A7322
A53: 수성페인트 롤러칠 | B53: 천장 2회 노무비 | C53: M2 | N53: 50B8F198C36E647047333BA2864EF6 | O53: 50B8F198C36E647047333E7939CE73 | P53: T | Q53: F | R53: F | AW53: 50B8F198C36E647047333BA2864EF650B8F198C36E647047333E7939CE73
A54: 바탕만들기+수성페인트 롤러칠(재료비 미포함) | B54: 내부, 2회 1급, con'c·mortar면 | C54: M2 | N54: 50B8F198C36E647047333BA2864EF6 | O54: 50B8F198C36E6470474C37B6105BF7 | P54: T | Q54: F | R54: F | AW54: 50B8F198C36E647047333BA2864EF650B8F198C36E6470474C37B6105BF7
A55: 콘크리트·모르타르면 바탕만들기 재료비 | B55: (20년 품셈 기준) | C55: M2 | N55: 50B8F198C36E647047333BA2864EF6 | O55: 50B8F199C42FE4804DD238BF5B033C | P55: T | Q55: F | R55: F | AW55: 50B8F198C36E647047333BA2864EF650B8F199C42FE4804DD238BF5B033C
A56: [ 합 계 ] | N56: TOTAL | O56: TOTAL
A58: 데코타일 코팅 ㎡ ( 호표 9 ) | N58: 50B8E19A8B03F63046BD3474A80D6E
A59: 광택제 | B59: 광택제, 수성왁스 | C59: L | N59: 50B8E19A8B03F63046BD3474A80D6E | O59: 57E5E1934502921047C73862524EDB4FADD113 | P59: F | Q59: F | R59: T | V59: 1 | AW59: 50B8E19A8B03F63046BD3474A80D6E57E5E1934502921047C73862524EDB4FADD113
A60: 도장공 | B60: 일반공사 직종 | C60: 인 | N60: 50B8E19A8B03F63046BD3474A80D6E | O60: 5060F1993319D2104E8B3258F403201DA1F4DE | P60: F | Q60: F | R60: T | AW60: 50B8E19A8B03F63046BD3474A80D6E5060F1993319D2104E8B3258F403201DA1F4DE
A61: 보통인부 | B61: 일반공사 직종 | C61: 인 | N61: 50B8E19A8B03F63046BD3474A80D6E | O61: 5060F1993319D2104E8B3258F403201DA1F687 | P61: F | Q61: F | R61: T | AW61: 50B8E19A8B03F63046BD3474A80D6E5060F1993319D2104E8B3258F403201DA1F687
A62: 공구손료 및 잡재료비 | B62: 인력품의 2% | C62: 식 | N62: 50B8E19A8B03F63046BD3474A80D6E | O62: 51A161976B3632904A6F31A71D38001 | P62: F | Q62: F | R62: F | S62: 1 | T62: 0 | U62: 0.02 | AW62: 50B8E19A8B03F63046BD3474A80D6E51A161976B3632904A6F31A71D38001
A63: [ 합 계 ] | N63: TOTAL | O63: TOTAL
A65: 인테리어필름 방염 M2 ( 호표 10 ) | N65: 50B8819C2501E4304B753840DEF5F1
A66: 인테리어필름 | C66: M2 | N66: 50B8819C2501E4304B753840DEF5F1 | O66: 579D71978B1685F04BAC3AE3E183A3B198A02E | P66: F | Q66: F | R66: T | AW66: 50B8819C2501E4304B753840DEF5F1579D71978B1685F04BAC3AE3E183A3B198A02E
A67: 내장공 | B67: 일반공사 직종 | C67: 인 | N67: 50B8819C2501E4304B753840DEF5F1 | O67: 5060F1993319D2104E8B3258F403201DA1F5FE | P67: F | Q67: F | R67: T | AW67: 50B8819C2501E4304B753840DEF5F15060F1993319D2104E8B3258F403201DA1F5FE
A68: 보통인부 | B68: 일반공사 직종 | C68: 인 | N68: 50B8819C2501E4304B753840DEF5F1 | O68: 5060F1993319D2104E8B3258F403201DA1F687 | P68: F | Q68: F | R68: T | AW68: 50B8819C2501E4304B753840DEF5F15060F1993319D2104E8B3258F403201DA1F687
A69: [ 합 계 ] | N69: TOTAL | O69: TOTAL
A71: 유성페인트 붓칠 방화문 양개 SET ( 호표 11 ) | N71: 50B8F198DDFDDF1040C13AB3A7B736
A72: 유성페인트 붓칠(재료비 미포함) | B72: 철재면, 2회 1급 | C72: M2 | N72: 50B8F198DDFDDF1040C13AB3A7B736 | O72: 50B8F198DDFDDF1040C13AB3A7B733 | P72: T | Q72: F | R72: F | AW72: 50B8F198DDFDDF1040C13AB3A7B73650B8F198DDFDDF1040C13AB3A7B733
A73: 유성페인트 붓칠 재료비(20년 품셈기준) | B73: 철재면, 2회, 1급 | C73: M2 | N73: 50B8F198DDFDDF1040C13AB3A7B736 | O73: 50B8F198DDFDDF1040C13AB7003AB7 | P73: T | Q73: F | R73: F | AW73: 50B8F198DDFDDF1040C13AB3A7B73650B8F198DDFDDF1040C13AB7003AB7
A74: [ 합 계 ] | N74: TOTAL | O74: TOTAL
A76: 유성페인트 붓칠 방화문 편개 SET ( 호표 12 ) | N76: 50B8F198DDFDDF1040C13AB3A7B735
A77: 유성페인트 붓칠(재료비 미포함) | B77: 철재면, 2회 1급 | C77: M2 | N77: 50B8F198DDFDDF1040C13AB3A7B735 | O77: 50B8F198DDFDDF1040C13AB3A7B733 | P77: T | Q77: F | R77: F | AW77: 50B8F198DDFDDF1040C13AB3A7B73550B8F198DDFDDF1040C13AB3A7B733
A78: 유성페인트 붓칠 재료비(20년 품셈기준) | B78: 철재면, 2회, 1급 | C78: M2 | N78: 50B8F198DDFDDF1040C13AB3A7B735 | O78: 50B8F198DDFDDF1040C13AB7003AB7 | P78: T | Q78: F | R78: F | AW78: 50B8F198DDFDDF1040C13AB3A7B73550B8F198DDFDDF1040C13AB7003AB7
A79: [ 합 계 ] | N79: TOTAL | O79: TOTAL
A81: 바탕만들기+에폭시 라이닝 레기칠 M2 ( 호표 13 ) | N81: 50B8F1985885D19048043AD5332609
A82: 콘크리트·모르타르면 바탕만들기 | B82: 노무비 | C82: M2 | N82: 50B8F1985885D19048043AD5332609 | O82: 50B8F199C42FE4804DD238B0D4EEBD | P82: T | Q82: F | R82: F | AW82: 50B8F1985885D19048043AD533260950B8F199C42FE4804DD238B0D4EEBD
A83: 에폭시 페인트칠 재료비(20년 품셈기준) | B83: 콘크리트, 시멘트 모르타르용 | C83: M2 | N83: 50B8F1985885D19048043AD5332609 | O83: 50B8F1985885D1904815303F53E584 | P83: T | Q83: F | R83: F | AW83: 50B8F1985885D19048043AD533260950B8F1985885D1904815303F53E584
A84: 에폭시 라이닝(레기칠 노무비) | B84: 하도1회, 퍼티 및 연마, 에폭시 페인트 2회칠 기준 | C84: M2 | N84: 50B8F1985885D19048043AD5332609 | O84: 50B8F1985885D19048043AD42B2CB9 | P84: T | Q84: F | R84: F | AW84: 50B8F1985885D19048043AD533260950B8F1985885D19048043AD42B2CB9
A85: 모르타르 바름 | B85: 바닥, 24mm | C85: M2 | N85: 50B8F1985885D19048043AD5332609 | O85: 50B8619F211E62F04A25335A2DFAB2 | P85: T | Q85: F | R85: F | AW85: 50B8F1985885D19048043AD533260950B8619F211E62F04A25335A2DFAB2
A86: [ 합 계 ] | N86: TOTAL | O86: TOTAL
A88: 폴딩도어설치 6.7*3.5 EA ( 호표 14 ) | N88: 50B8D194385BBC804703329C89ED12
A89: 알루미늄 폴딩도어 | C89: EA | N89: 50B8D194385BBC804703329C89ED12 | O89: 579D71978B0425204DF23170E4AF54BA865676 | P89: F | Q89: F | R89: T | AW89: 50B8D194385BBC804703329C89ED12579D71978B0425204DF23170E4AF54BA865676
A90: 알루미늄창호 설치 | C90: EA | N90: 50B8D194385BBC804703329C89ED12 | O90: 50B8D1940336BB304EF43377FB7D27 | P90: T | Q90: F | R90: F | AW90: 50B8D194385BBC804703329C89ED1250B8D1940336BB304EF43377FB7D27
A91: [ 합 계 ] | N91: TOTAL | O91: TOTAL
A93: 윈도우 칸막이 설치 M ( 호표 15 ) | N93: 50B8D1940336BB304EF43377FB7D22
A94: 금속제문틀 | B94: 금속제문틀, 스테인리스창호, 헤어라인, 문틀, 100*45*1.5mm | C94: M | N94: 50B8D1940336BB304EF43377FB7D22 | O94: 579D71978B04AA404D5434883A35118FB04764 | P94: F | Q94: F | R94: T | V94: 1 | AW94: 50B8D1940336BB304EF43377FB7D22579D71978B04AA404D5434883A35118FB04764
A95: 창호공 | B95: 일반공사 직종 | C95: 인 | N95: 50B8D1940336BB304EF43377FB7D22 | O95: 5060F1993319D2104E8B3258F403201DA1F4D3 | P95: F | Q95: F | R95: T | V95: 1 | AW95: 50B8D1940336BB304EF43377FB7D225060F1993319D2104E8B3258F403201DA1F4D3
A96: 보통인부 | B96: 일반공사 직종 | C96: 인 | N96: 50B8D1940336BB304EF43377FB7D22 | O96: 5060F1993319D2104E8B3258F403201DA1F687 | P96: F | Q96: F | R96: T | V96: 1 | AW96: 50B8D1940336BB304EF43377FB7D225060F1993319D2104E8B3258F403201DA1F687
A97: 공구손료 | B97: 인력품의 2% | C97: 식 | N97: 50B8D1940336BB304EF43377FB7D22 | O97: 51A161976B3632904A6F31A71D38001 | P97: F | Q97: F | R97: F | S97: 1 | T97: 2 | U97: 0.02 | AW97: 50B8D1940336BB304EF43377FB7D2251A161976B3632904A6F31A71D38001
A98: [ 합 계 ] | N98: TOTAL | O98: TOTAL
A100: 강화유리설치 유리두께 12mm 이하 M2 ( 호표 16 ) | N100: 50B8D1945B2905F0409232CF5B03B2
A101: 강화유리 | B101: 강화유리, 투명, 10mm | C101: M2 | N101: 50B8D1945B2905F0409232CF5B03B2 | O101: 579D71978B042500412F303FCF516E3DCF3E52 | P101: F | Q101: F | R101: T | AW101: 50B8D1945B2905F0409232CF5B03B2579D71978B042500412F303FCF516E3DCF3E52
A102: 유리공 | B102: 일반공사 직종 | C102: 인 | N102: 50B8D1945B2905F0409232CF5B03B2 | O102: 5060F1993319D2104E8B3258F403201DA1F4D2 | P102: F | Q102: F | R102: T | AW102: 50B8D1945B2905F0409232CF5B03B25060F1993319D2104E8B3258F403201DA1F4D2
A103: 보통인부 | B103: 일반공사 직종 | C103: 인 | N103: 50B8D1945B2905F0409232CF5B03B2 | O103: 5060F1993319D2104E8B3258F403201DA1F687 | P103: F | Q103: F | R103: T | AW103: 50B8D1945B2905F0409232CF5B03B25060F1993319D2104E8B3258F403201DA1F687
A104: [ 합 계 ] | N104: TOTAL | O104: TOTAL
A106: 천정철거 석면, 텍스 M2 ( 호표 17 ) | N106: 50B9019F70A4F4404662366BC00BAB
A107: 석면철거 부자재 및 경비 | B107: 석면, 텍스 | C107: M2 | N107: 50B9019F70A4F4404662366BC00BAB | O107: 5100219B5C0D1C60441E35755D9C9F9D30EC05 | P107: F | Q107: F | R107: T | AW107: 50B9019F70A4F4404662366BC00BAB5100219B5C0D1C60441E35755D9C9F9D30EC05
A108: 건축목공 | B108: 일반공사 직종 | C108: 인 | N108: 50B9019F70A4F4404662366BC00BAB | O108: 5060F1993319D2104E8B3258F403201DA1F4D4 | P108: F | Q108: F | R108: T | AW108: 50B9019F70A4F4404662366BC00BAB5060F1993319D2104E8B3258F403201DA1F4D4
A109: 보통인부 | B109: 일반공사 직종 | C109: 인 | N109: 50B9019F70A4F4404662366BC00BAB | O109: 5060F1993319D2104E8B3258F403201DA1F687 | P109: F | Q109: F | R109: T | AW109: 50B9019F70A4F4404662366BC00BAB5060F1993319D2104E8B3258F403201DA1F687
A110: [ 합 계 ] | N110: TOTAL | O110: TOTAL
A112: 바닥철거 데코타일 M2 ( 호표 18 ) | N112: 50B9019F7031ECB049C23EC779C540
A113: 리노륨 철거 - 22-1/4삭제 | B113: 바닥 및 수장 부분 | C113: M2 | N113: 50B9019F7031ECB049C23EC779C540 | O113: 50B9019F7031ECB049C23EC2FD127E | P113: T | Q113: F | R113: F | AW113: 50B9019F7031ECB049C23EC779C54050B9019F7031ECB049C23EC2FD127E
A114: 부자재 및 공구손료 | B114: 데코타일 | C114: M2 | N114: 50B9019F7031ECB049C23EC779C540 | O114: 5100219B5C0D1C60441E35755D9C9F9D30EC04 | P114: F | Q114: F | R114: T | AW114: 50B9019F7031ECB049C23EC779C5405100219B5C0D1C60441E35755D9C9F9D30EC04
A115: [ 합 계 ] | N115: TOTAL | O115: TOTAL
A117: 벽체철거 판넬외 혼합자재 M2 ( 호표 19 ) | N117: 50B9019F70A4F45040C8302D86C6CC
A118: 건축목공 | B118: 일반공사 직종 | C118: 인 | N118: 50B9019F70A4F45040C8302D86C6CC | O118: 5060F1993319D2104E8B3258F403201DA1F4D4 | P118: F | Q118: F | R118: T | AW118: 50B9019F70A4F45040C8302D86C6CC5060F1993319D2104E8B3258F403201DA1F4D4
...

Sheet 단가대비표
A1: 단 가 대 비 표
A2: [ 순천청암대학교반려동물학과환경개선공사 ]
A3: 코 드 | B3: 품 명 | C3: 규격 | D3: 단위 | E3: 재 료 비 | P3: 노 무 비 | Q3: 경 비 | W3: 번 호 | X3: 비 고 | Y3: 품목구분 | Z3: 노임구분 | AA3: 소수점처리 | AB3: 자재구분
E4: 조달청가격 | F4: PAGE | G4: 거래가격 | H4: PAGE | I4: 유통물가 | J4: PAGE | K4: 조사가격1 | L4: PAGE | M4: 조사가격2 | N4: PAGE | O4: 적용단가 | Q4: 조달청가격 | R4: 거래가격 | S4: 유통물가 | T4: 조사가격1 | U4: 조사가격2 | V4: 적용단가
A5: 57B8419CFDAA0570450133E0C775886D0E14A7 | B5: 모래 | C5: 모래, 광주, 도착도 | D5: M3
A6: 57B8419CFD9997E040193F6C770CA30E34426B | B6: 중밀도섬유판 | C6: 중밀도섬유판, 9.0*1220*2440mm | D6: M2
A7: 579D71978B6EA5504529383671DBF2D3387AAF | B7: 시멘트 | C7: 건재상 | D7: 포
A8: 579D71978B2717104A6A39CE7D7D69EF8BA5D8 | B8: 마감몰딩 | D8: M
A9: 579D71978B1685F04BAC3AE3E183A3B198A02E | B9: 인테리어필름 | D9: M2 | X9: 시공도
A10: 579D71978B1685C04E6534E44C58BD126F72BA | B10: C-RUNNER | C10: 152*40*0.8T | D10: M
A11: 579D71978B1685C04E6534E44C58BD126E6D07 | B11: C-STUD | C11: 152*45*0.8T | D11: M
A12: 579D71978B1685C04E6534E44C58BD126D4666 | B12: CORNER BEAD | C12: 40*40*0.5T | D12: M
A13: 579D71978B0425204DF23170E4AF54BA865676 | B13: 알루미늄 폴딩도어 | D13: EA
A14: 579D71978B0425204DF2306E76DCA7794FD01D | B14: 유리문 | C14: 유리문, 12*900*2100mm, 투명, 세이프강화도어(고급형) | D14: 개
A15: 579D71978B042500412F303FCF516E3DCF3E52 | B15: 강화유리 | C15: 강화유리, 투명, 10mm | D15: M2
A16: 579D71978B04AA404D5434883A35118FB04764 | B16: 금속제문틀 | C16: 금속제문틀, 스테인리스창호, 헤어라인, 문틀, 100*45*1.5mm | D16: M | X16: 견적
A17: 579D71978BFC94E041693C44822B8732DE79DB | B17: 벽체칸막이 | D17: M2
A18: 579D71978BE2053040CE38B17F8CDAAD1AEA8E | B18: 비계안정장치 | C18: 비계안정장치, 비계기본틀, 기둥, 1.2*1.7m | D18: 개
A19: 579D71978BE2053040CE38B17F8CDAAD1AEA80 | B19: 비계안정장치 | C19: 비계안정장치, 가새, 1.2*1.9m | D19: 개
A20: 579D71978BE2053040CE38B17F8CDAAD1AE50A | B20: 비계안정장치 | C20: 비계안정장치, 수평띠장, 1829mm | D20: 개
A21: 579D71978BE2053040CE38B17F8CDAAD1AE50B | B21: 비계안정장치 | C21: 비계안정장치, 손잡이, 1229mm | D21: 개
A22: 579D71978BE2053040CE38B17F8CDAAD1AE50C | B22: 비계안정장치 | C22: 비계안정장치, 손잡이, 1829mm | D22: 개
A23: 579D71978BE2053040CE38B17F8CDAAD1AE50D | B23: 비계안정장치 | C23: 비계안정장치, 손잡이기둥 | D23: 개
A24: 579D71978BE2053040CE38B17F8CDAAD1AE50E | B24: 비계안정장치 | C24: 비계안정장치, 바퀴 | D24: 개
A25: 579D71978BE2053040CE38B17F8CDAAD1AE50F | B25: 비계안정장치 | C25: 비계안정장치, 쟈키 | D25: 개
A26: 579D71978BE2053040CE38B17DDCB7E1097074 | B26: 비계안정장치 | C26: 비계안정장치, 발판, 40*200*2000 | D26: 장
A27: 579D619535E51040469D3D59E93F0D8BD9B444 | B27: PC강선 | C27: PC강선, ∮6.0mm | D27: kg
A28: 579D619535E51040469D3D59E93F0DE9AAA22C | B28: 힐티앙카 | C28: NK-27 | D28: 개
A29: 579D619535E51040469D3D59E93F0DE9AAA22E | B29: 집성스크류 | C29: φ4*32mm(1¼") | D29: 개
A30: 579D619535E51040469D3D59E93F0DE9AAA228 | B30: 집성스크류 | C30: φ4*44mm(1¾") | D30: 개
A31: 579D6195087274D04A2C399A390FCE42365F5A | B31: 퍼티 | C31: 퍼티, 319퍼티, 백색 | D31: kg | X31: 1L=1.55kg
A32: 579D6195087274D04A2C399A390FCE4237649D | B32: 휠러 | D32: kg
A33: 579D61950861EA904946387FAABF8389E7EE6F | B33: 에폭시페인트 | C33: EP1730 비철금속용 프라이머(회색) | D33: L
A34: 579D61950861EA904946387FAABF8389E7EF74 | B34: 유니폭시 투명라이닝 | C34: 후막형 투명 에폭시 바닥마감재(2~3mm) | D34: L
A35: 579D61950861EA9049463B309EF573330A056A | B35: 수성페인트 | C35: 수성페인트, KSM6010-2종1급, 백색 | D35: L
A36: 579D61950861EA9049D431CCB46BFB53E9BCB9 | B36: 조합페인트 | C36: 조합페인트, KSM6020-1종1급, 백색 | D36: L
A37: 579D61950861EA4041263C3C0E91DFFD178E90 | B37: 시너 | C37: 시너, KSM6060, 1종 | D37: L
A38: 579D61950861EA4041263C3C0DF2A3542A0513 | B38: 에폭시계시너 | C38: 024 | D38: L
A39: 57E5E1934502921047C73862524EDB4FADD113 | B39: 광택제 | C39: 광택제, 수성왁스 | D39: L
A40: 5060F1993319D2104E8B3258F403201DA1F687 | B40: 보통인부 | C40: 일반공사 직종 | D40: 인 | Y40: B
A41: 5060F1993319D2104E8B3258F403201DA1F683 | B41: 비계공 | C41: 일반공사 직종 | D41: 인 | Y41: B
A42: 5060F1993319D2104E8B3258F403201DA1F4D4 | B42: 건축목공 | C42: 일반공사 직종 | D42: 인 | Y42: B
A43: 5060F1993319D2104E8B3258F403201DA1F4D3 | B43: 창호공 | C43: 일반공사 직종 | D43: 인 | Y43: B
A44: 5060F1993319D2104E8B3258F403201DA1F4D2 | B44: 유리공 | C44: 일반공사 직종 | D44: 인 | Y44: B
A45: 5060F1993319D2104E8B3258F403201DA1F4D0 | B45: 미장공 | C45: 일반공사 직종 | D45: 인 | Y45: B
A46: 5060F1993319D2104E8B3258F403201DA1F4DE | B46: 도장공 | C46: 일반공사 직종 | D46: 인 | Y46: B
A47: 5060F1993319D2104E8B3258F403201DA1F5FE | B47: 내장공 | C47: 일반공사 직종 | D47: 인 | Y47: B
A48: 5060F1993319D2104E8B3258F403201DA1F5F7 | B48: 배관공 | C48: 일반공사 직종 | D48: 인 | Y48: B
A49: 5100219B5C0D1C60441E35755D9C9F9D30ED2F | B49: PVC 파이프 | C49: 50A | D49: M
A50: 5100219B5C0D1C60441E35755D9C9F9D30ED28 | B50: 급수파이프 | C50: 15A | D50: M
A51: 5100219B5C0D1C60441E35755D9C9F9D30ED29 | B51: 보온재 | C51: 15*20T | D51: M
A52: 5100219B5C0D1C60441E35755D9C9F9D30ED2A | B52: 온수기 | C52: 30L | D52: EA
A53: 5100219B5C0D1C60441E35755D9C9F9D30ED2B | B53: 코어작업 | C53: 75A | D53: EA
A54: 5100219B5C0D1C60441E35755D9C9F9D30ED24 | B54: 세면대 | D54: EA
A55: 5100219B5C0D1C60441E35755D9C9F9D30ED25 | B55: 부자재비 | D55: 식
A56: 5100219B5C0D1C60441E35755D9C9F9D30EC05 | B56: 석면철거 부자재 및 경비 | C56: 석면, 텍스 | D56: M2
A57: 5100219B5C0D1C60441E35755D9C9F9D30EC04 | B57: 부자재 및 공구손료 | C57: 데코타일 | D57: M2
A58: 5100219B5C0D1C60441E35755D9C9F9D30EC07 | B58: 부자재 및 공구손료 | C58: 판넬외 혼합자재 | D58: M2
A59: 5100219B5C0D1C60441E35755D9C9F9D30EC06 | B59: 혼합폐기물 운반비및 처리 | C59: 압롤트럭 | D59: 대

Sheet  공사설정 
A1: 이 Sheet는 수정하지 마십시요
A2: 공사구분 | B2: A | C2: 타이틀
A3: 확정내역 | B3: 원내역
A4: 자재단가적용 | B4: 5
A5: 경비단가적용 | B5: 5
A6: 품목코드형식 | B6: XXXX-XXXX-XXXXXXXXX
A7: 내역금액소수점처리 | B7: C | C7: T
A8: 일위대가내역소수점처리 | B8: C | C8: 2
A9: 단가명 | B9: 조달청가격 | C9: 거래가격 | D9: 유통물가 | E9: 조사가격1 | F9: 조사가격2 | G9: TTTTT
A10: 환율 | B10: 1267 | C10: 0 | D10: 0
A11: 시간당작업량 | B11: R | C11: 4
A12: 1회 사이클시간 | B12: R | C12: 4
A13: 시간당 작업사이클 | B13: R | C13: 3
A14: 일반변수 | B14: R | C14: 5
A15: 시간당 노임산출 계수 | B15: A | C15: 1/8*16/12*25/20 | D15: 1/8*16/12*25/20 | E15: 1/8*16/12*25/20 | F15: 1
A16: 재료비 할증 계수 | B16: 1.11 | C16: 1.12
A17: 노무비 할증 계수 | B17: 1 | C17: 1.5 | D17: 1.16 | E17: 1.6 | F17: 1.6 | G17: 1.6 | H17: 1.94 | I17: 1.94 | J17: 1.94 | K17: 1 | L17: 1 | M17: 1
A18: 경비 할증 계수 | B18: 1.25 | C18: 1.071
A19: 내역,일위대가 품명,규격,단위 따로적용
A20: 내역단가 소수점처리 | B20: C | C20: 1
A21: 코드 | B21: 공종구분명 | C21: 원가비목코드
A22: 1 | B22: 작 업 부 산 물 | C22: A3
A23: 2 | B23: 운 반 비 | C23: C1
A24: 3 | B24: 관 급 자 재 비 | C24: DJ
A25: 4 | B25: 사 급 자 재 비 | C25: D3
A26: 5 | B26: 외 자 재
A27: 6 | B27: ...
A28: 7 | B28: ...
A29: 8 | B29: ...
A30: 9 | B30: ...
A31: A | B31: ....
A32: B | B32: .....
A33: C | B33: ....
A34: D | B34: ....
A35: E | B35: ....
A36: F | B36: ....
A37: G | B37: ....
A38: H | B38: ....
A39: I | B39: ....
A40: J | B40: ....

Sheet Sheet1
